BEGIN:VCALENDAR
VERSION:2.0
PRODID:-//BOMA Iowa - ECPv6.15.20//NONSGML v1.0//EN
CALSCALE:GREGORIAN
METHOD:PUBLISH
X-WR-CALNAME:BOMA Iowa
X-ORIGINAL-URL:https://bomaiowa.org
X-WR-CALDESC:Events for BOMA Iowa
REFRESH-INTERVAL;VALUE=DURATION:PT1H
X-Robots-Tag:noindex
X-PUBLISHED-TTL:PT1H
BEGIN:VTIMEZONE
TZID:America/Chicago
BEGIN:DAYLIGHT
TZOFFSETFROM:-0600
TZOFFSETTO:-0500
TZNAME:CDT
DTSTART:20240310T080000
END:DAYLIGHT
BEGIN:STANDARD
TZOFFSETFROM:-0500
TZOFFSETTO:-0600
TZNAME:CST
DTSTART:20241103T070000
END:STANDARD
BEGIN:DAYLIGHT
TZOFFSETFROM:-0600
TZOFFSETTO:-0500
TZNAME:CDT
DTSTART:20250309T080000
END:DAYLIGHT
BEGIN:STANDARD
TZOFFSETFROM:-0500
TZOFFSETTO:-0600
TZNAME:CST
DTSTART:20251102T070000
END:STANDARD
BEGIN:DAYLIGHT
TZOFFSETFROM:-0600
TZOFFSETTO:-0500
TZNAME:CDT
DTSTART:20260308T080000
END:DAYLIGHT
BEGIN:STANDARD
TZOFFSETFROM:-0500
TZOFFSETTO:-0600
TZNAME:CST
DTSTART:20261101T070000
END:STANDARD
END:VTIMEZONE
BEGIN:VEVENT
DTSTART;TZID=America/Chicago:20250318T113000
DTEND;TZID=America/Chicago:20250318T130000
DTSTAMP:20260425T212126
CREATED:20241014T185404Z
LAST-MODIFIED:20250303T132656Z
UID:4100-1742297400-1742302800@bomaiowa.org
SUMMARY:March 2025 Program/Luncheon
DESCRIPTION:Tuesday\, March 18\, 2025 \nSpeaker: Mary Hunter\, President & CEO\, Goodwill of Central Iowa \nDescription:  Goodwill \nLocation: Wakonda Club \nTime:\n11:30 Registration\n11:50 Lunch\n12:20 Program \n$30 per person\nNo shows will be billed \nDessert Sponsor: Murphy Network \nRegister and pay by check \n\n \n\n\n\n\nPay Online\n\n\n1 Attendee $30.00 USD2 Attendees $60.00 USD3 Attendees $90.00 USD4 Attendees $120.00 USD\n\n\n\nNames of those attending\n\n\n\n\n\n\n\n \n\n  \n 
URL:https://bomaiowa.org/event/march-2025-program-luncheon/
LOCATION:Wakonda Club\, 3915 Fleur Dr\, Des Moines\, IA\, 50321\, United States
END:VEVENT
END:VCALENDAR