BEGIN:VCALENDAR
VERSION:2.0
PRODID:-//BOMA Iowa - ECPv6.15.20//NONSGML v1.0//EN
CALSCALE:GREGORIAN
METHOD:PUBLISH
X-ORIGINAL-URL:https://bomaiowa.org
X-WR-CALDESC:Events for BOMA Iowa
REFRESH-INTERVAL;VALUE=DURATION:PT1H
X-Robots-Tag:noindex
X-PUBLISHED-TTL:PT1H
BEGIN:VTIMEZONE
TZID:UTC
BEGIN:STANDARD
TZOFFSETFROM:+0000
TZOFFSETTO:+0000
TZNAME:UTC
DTSTART:20150101T000000
END:STANDARD
END:VTIMEZONE
BEGIN:VEVENT
DTSTART;TZID=UTC:20160428T160000
DTEND;TZID=UTC:20160428T170000
DTSTAMP:20260421T095121
CREATED:20160414T052446Z
LAST-MODIFIED:20160426T025801Z
UID:232-1461859200-1461862800@bomaiowa.org
SUMMARY:Wells Fargo Building Tour
DESCRIPTION:Building Tour – Wells Fargo\, Jordan Creek\n(800 S Jordan Creek Pkwy\, WDM) \nThursday\, April 28 \n4:00 – 5:00 p.m. \nSign up \n  \nTake a tour of Wells Fargo’s newest buildings on their West Des Moines Campus.  We will be touring The Junction and Cedar Point buildings. \nMap for Parking \nAfter the tour\, we will meet up for additional networking time at Draught House 50 (6240 Mills Civic Pkwy\, WDM)
URL:https://bomaiowa.org/event/wells-fargo-building-tour/
LOCATION:Wells Fargo Jordan Creek\, 800 S Jordan Creek Pkwy\, West Des Moines\, IA\, 50266\, United States
CATEGORIES:Building Tours
END:VEVENT
END:VCALENDAR