BEGIN:VCALENDAR
VERSION:2.0
PRODID:-//BOMA Iowa - ECPv6.15.20//NONSGML v1.0//EN
CALSCALE:GREGORIAN
METHOD:PUBLISH
X-WR-CALNAME:BOMA Iowa
X-ORIGINAL-URL:https://bomaiowa.org
X-WR-CALDESC:Events for BOMA Iowa
REFRESH-INTERVAL;VALUE=DURATION:PT1H
X-Robots-Tag:noindex
X-PUBLISHED-TTL:PT1H
BEGIN:VTIMEZONE
TZID:America/Chicago
BEGIN:DAYLIGHT
TZOFFSETFROM:-0600
TZOFFSETTO:-0500
TZNAME:CDT
DTSTART:20250309T080000
END:DAYLIGHT
BEGIN:STANDARD
TZOFFSETFROM:-0500
TZOFFSETTO:-0600
TZNAME:CST
DTSTART:20251102T070000
END:STANDARD
BEGIN:DAYLIGHT
TZOFFSETFROM:-0600
TZOFFSETTO:-0500
TZNAME:CDT
DTSTART:20260308T080000
END:DAYLIGHT
BEGIN:STANDARD
TZOFFSETFROM:-0500
TZOFFSETTO:-0600
TZNAME:CST
DTSTART:20261101T070000
END:STANDARD
BEGIN:DAYLIGHT
TZOFFSETFROM:-0600
TZOFFSETTO:-0500
TZNAME:CDT
DTSTART:20270314T080000
END:DAYLIGHT
BEGIN:STANDARD
TZOFFSETFROM:-0500
TZOFFSETTO:-0600
TZNAME:CST
DTSTART:20271107T070000
END:STANDARD
END:VTIMEZONE
BEGIN:VEVENT
DTSTART;TZID=America/Chicago:20260421T113000
DTEND;TZID=America/Chicago:20260421T130000
DTSTAMP:20260421T022850
CREATED:20251022T215804Z
LAST-MODIFIED:20260103T220645Z
UID:4565-1776771000-1776776400@bomaiowa.org
SUMMARY:April 2026 Program/Luncheon
DESCRIPTION:Tuesday\, April 21\, 2026 \nSpeakers: Kellee Brauntz and John Johnson\, Founders\, Core Audit Partners \nDescription:  Corporate Audits\, Compliance and Risk Assessment \nLocation: Wakonda Club \nTime:\n11:30 Registration\n11:50 Lunch\n12:20 Program \n$30 per person\nNo shows will be billed \nDessert Sponsor: Larry’s Building Services \nRegister and pay by check \n  \n\n \n\n\n\n\nPay Online\n\n\n1 Attendee $30.00 USD2 Attendees $60.00 USD3 Attendees $90.00 USD4 Attendees $120.00 USD\n\n\n\nNames of those attending\n\n\n\n\n\n\n\n \n\n 
URL:https://bomaiowa.org/event/april-2026-program-luncheon/
LOCATION:Wakonda Club\, 3915 Fleur Dr\, Des Moines\, IA\, 50321\, United States
END:VEVENT
END:VCALENDAR