BEGIN:VCALENDAR
VERSION:2.0
PRODID:-//BOMA Iowa - ECPv6.15.20//NONSGML v1.0//EN
CALSCALE:GREGORIAN
METHOD:PUBLISH
X-WR-CALNAME:BOMA Iowa
X-ORIGINAL-URL:https://bomaiowa.org
X-WR-CALDESC:Events for BOMA Iowa
REFRESH-INTERVAL;VALUE=DURATION:PT1H
X-Robots-Tag:noindex
X-PUBLISHED-TTL:PT1H
BEGIN:VTIMEZONE
TZID:America/Chicago
BEGIN:DAYLIGHT
TZOFFSETFROM:-0600
TZOFFSETTO:-0500
TZNAME:CDT
DTSTART:20240310T080000
END:DAYLIGHT
BEGIN:STANDARD
TZOFFSETFROM:-0500
TZOFFSETTO:-0600
TZNAME:CST
DTSTART:20241103T070000
END:STANDARD
BEGIN:DAYLIGHT
TZOFFSETFROM:-0600
TZOFFSETTO:-0500
TZNAME:CDT
DTSTART:20250309T080000
END:DAYLIGHT
BEGIN:STANDARD
TZOFFSETFROM:-0500
TZOFFSETTO:-0600
TZNAME:CST
DTSTART:20251102T070000
END:STANDARD
BEGIN:DAYLIGHT
TZOFFSETFROM:-0600
TZOFFSETTO:-0500
TZNAME:CDT
DTSTART:20260308T080000
END:DAYLIGHT
BEGIN:STANDARD
TZOFFSETFROM:-0500
TZOFFSETTO:-0600
TZNAME:CST
DTSTART:20261101T070000
END:STANDARD
END:VTIMEZONE
BEGIN:VEVENT
DTSTART;TZID=America/Chicago:20250717T090000
DTEND;TZID=America/Chicago:20250717T170000
DTSTAMP:20260425T172430
CREATED:20250208T214512Z
LAST-MODIFIED:20250625T153503Z
UID:4267-1752742800-1752771600@bomaiowa.org
SUMMARY:2025 Annual Golf Outing
DESCRIPTION:Thursday\, July 17\, 2025\n\n\n\nCourse: Terrace Hills Golf Course  \n9:00 a.m. Registration / Lunch\n10:00 a.m. – Shotgun Start\n3:00 p.m. – Keg / Social Time\n4:00 p.m. – Dinner and Prizes  \nGolf and Dinner – $150 per person  ($600 per foursome) Sold Out for Golfers \nDinner only – $30 per person (dinner and prizes)  \nLunch only – $15 per person  \nSponsorships  \nGolf Ball Sponsor (provide 36 dozen golf balls for event – 144 sleeves) – available \nLarge Prize Sponsor – Value of $100 or more – (Company name/logo displayed) – unlimited  \nSign Sponsor $150 (Sponsor sign with company logo displayed) – unlimited \nBag Drop $350 (Greet golfers and help with bags – sponsor sign with company logo displayed) – 1 available\nKeg Sponsor $350 (Sponsor sign with company logo displayed – limited to 1 company) – (taken)\nHole Sponsor $400 (Sit at hole – limited to 17 companies) – (taken)\nTable at the Turn Sponsor $400 (limited to 2 companies) – 1 available\nLunch Sponsor $500 (limited to 1 company) (taken)\nDinner Sponsor $500 (limited to 1 company) (taken)\nBeverage Cart Sponsor $500 (limited to 1 company) (taken)\nPar 3 Prize Hole Sponsor $500 (limited to 1 company) (taken) \nPay with check\nGolf Outing Flyer\nGolf Outing Sponsorship Flyer \n\n \n\n\n\n\nPay with credit card\n\n\nFoursome $600.00 USDSingle Golfer $150.00 USDSign Sponsor $150.00 USDLunch Only $15.00 USDDinner Only $30.00 USD\n\n\n\nNames of Golfers
URL:https://bomaiowa.org/event/2025-annual-golf-outing/
LOCATION:Terrace Hills Golf Course\, 8700 NE 46th Ave\, Altoona\, 50009
END:VEVENT
END:VCALENDAR